BEGIN:VCALENDAR
PRODID:-//eluceo/ical//2.0/EN
VERSION:2.0
CALSCALE:GREGORIAN
BEGIN:VEVENT
UID:e439c17a23d818409fdd99cfdf305be3
DTSTAMP:20260424T023956Z
SUMMARY:Dank für Golgatha - Moderne Kantate zum Karfreitag
DESCRIPTION:\nIn der Christuskirche Reichenhain erklingt am Karfreitag\, de
 n 3. April um 15:00 Uhr die moderne Kantate "Dank für Golgatha". Die Musi
 k stammt von Klaus Heizmann. In diesem Jahr wird die Aufführung mit Origi
 nalbildern der Zschorlauer Passionsspiele unterlegt.\n \n
URL:https://www.ckgc.de/event/316811.html
DTSTART:20260403T150000
DTEND:20260403T150000
LOCATION:Kirche Reichenhain
END:VEVENT
BEGIN:VTIMEZONE
TZID:Europe/Berlin
BEGIN:DAYLIGHT
DTSTART:20260403T150000
TZNAME:CEST
TZOFFSETTO:+0200
TZOFFSETFROM:+0200
END:DAYLIGHT
END:VTIMEZONE
END:VCALENDAR
