BEGIN:VCALENDAR
PRODID:-//eluceo/ical//2.0/EN
VERSION:2.0
CALSCALE:GREGORIAN
BEGIN:VEVENT
UID:c86c5f5211def2b9abc470000e0bda9f
DTSTAMP:20260424T024555Z
SUMMARY:Osterwanderung am Ostermontag von Euba
DESCRIPTION:\nAuch in diesem Jahr wird es wieder eine Osterwanderung geben\
 , zu der alle herzlich eingeladen sind. Das Ziel ist noch unklar\, fest st
 eht\, dass wir uns am Ostermontag\, den 6. April um 9:30 Uhr am Pfarrhaus 
 Euba treffen. Weitere Informationen folgen.\n
URL:https://www.ckgc.de/event/316812.html
DTSTART:20260406T093000
DTEND:20260406T093000
LOCATION:Pfarrhaus Euba
END:VEVENT
BEGIN:VTIMEZONE
TZID:Europe/Berlin
BEGIN:DAYLIGHT
DTSTART:20260406T093000
TZNAME:CEST
TZOFFSETTO:+0200
TZOFFSETFROM:+0200
END:DAYLIGHT
END:VTIMEZONE
END:VCALENDAR
