BEGIN:VCALENDAR
PRODID:-//eluceo/ical//2.0/EN
VERSION:2.0
CALSCALE:GREGORIAN
BEGIN:VEVENT
UID:915bd4cbc89661c5c902af3de1ce3f9b
DTSTAMP:20260424T024555Z
SUMMARY:„Von der rettenden Kraft zur Erinnerung“ - Bibelwoche 2026
DESCRIPTION:
URL:https://www.ckgc.de/event/316813.html
DTSTART:20260415T193000
DTEND:20260421T193000
LOCATION:
END:VEVENT
BEGIN:VTIMEZONE
TZID:Europe/Berlin
BEGIN:DAYLIGHT
DTSTART:20260415T193000
TZNAME:CEST
TZOFFSETTO:+0200
TZOFFSETFROM:+0200
END:DAYLIGHT
END:VTIMEZONE
END:VCALENDAR
