BEGIN:VCALENDAR
PRODID:-//eluceo/ical//2.0/EN
VERSION:2.0
CALSCALE:GREGORIAN
BEGIN:VEVENT
UID:fef09a8a3d8980152a2a17948511b7be
DTSTAMP:20260424T023956Z
SUMMARY:Ökumenischer Emmausgang nach Ostern
DESCRIPTION:Auch für dieses Jahr ist am Sonntag nach Ostern\, dem 12. Apri
 l ein ökumenischer „Emmausgang“ geplant\, den wir gemeinsam mit Chris
 ten der römisch-katholischen St. Antonius-Gemeinde Altchemnitz veranstalt
 en. Anhand der Emmausgeschichte begleiten wir die Jünger von der Trauer 
 über den Tod Jesu hin zur großen Freude über die Begegnung mit dem Aufe
 rstandenen. Wir beginnen um 14:30 Uhr an der Reichenhainer Kirche.
URL:https://www.ckgc.de/event/316815.html
DTSTART:20260412T143000
DTEND:20260412T143000
LOCATION:Kirche Reichenhain
END:VEVENT
BEGIN:VTIMEZONE
TZID:Europe/Berlin
BEGIN:DAYLIGHT
DTSTART:20260412T143000
TZNAME:CEST
TZOFFSETTO:+0200
TZOFFSETFROM:+0200
END:DAYLIGHT
END:VTIMEZONE
END:VCALENDAR
