BEGIN:VCALENDAR
PRODID:-//eluceo/ical//2.0/EN
VERSION:2.0
CALSCALE:GREGORIAN
BEGIN:VEVENT
UID:ef0925191ff4afa52ed995faa0bdafbd
DTSTAMP:20260424T023956Z
SUMMARY:Einladung zur Radtour: Kirche erfahren
DESCRIPTION:\nDie Region Chemnitz-Mitte lädt am 25. April zu einer Radtour
  von Gablenz aus über Euba\, Niederwiesa\, Lichtenwalde\, Ebersdorf\, Gl
 ösa zurück nach Gablenz ein. Auch Radler aus anderen Gemeinden sind dazu
  herzlich eingeladen. Die Tour startet um 9:30 Uhr mit einer Andacht in de
 r St. Petrikirche am Theaterplatz. Es ist möglich\, auch später noch ein
 zusteigen\, die Rast in Euba wird gegen 10:45 Uhr sein.\n
URL:https://www.ckgc.de/event/316816.html
DTSTART:20260425T093000
DTEND:20260425T093000
LOCATION:Petrikirche Theaterplatz
END:VEVENT
BEGIN:VTIMEZONE
TZID:Europe/Berlin
BEGIN:DAYLIGHT
DTSTART:20260425T093000
TZNAME:CEST
TZOFFSETTO:+0200
TZOFFSETFROM:+0200
END:DAYLIGHT
END:VTIMEZONE
END:VCALENDAR
