BEGIN:VCALENDAR
PRODID:-//eluceo/ical//2.0/EN
VERSION:2.0
CALSCALE:GREGORIAN
BEGIN:VEVENT
UID:4ecac2da089dff9572639a584149e498
DTSTAMP:20260421T233712Z
SUMMARY:Lobpreisgottesdienst
DESCRIPTION:„Ich will den HERRN loben und nie vergessen\, wie viel Gutes 
 er mir getan hat.“ (Psalm 103\, 2 (HFA))\nHerzliche Einladung zum Lobpre
 isgottesdienst in der Kirche in Kleinolbersdorf. Wir testen ein für uns n
 eues Format in Anlehnung an die bisher sehr gut besuchten Lobpreisabende. 
 Bandbegleitung diesmal durch Praiseplace. 
URL:https://www.ckgc.de/event/lobpreisgottesdienst.html
DTSTART:20231021T180000
DTEND:20231021T180000
LOCATION:Kirche Kleinolbersdorf
END:VEVENT
BEGIN:VTIMEZONE
TZID:Europe/Berlin
BEGIN:DAYLIGHT
DTSTART:20231021T180000
TZNAME:CEST
TZOFFSETTO:+0200
TZOFFSETFROM:+0200
END:DAYLIGHT
END:VTIMEZONE
END:VCALENDAR
