BEGIN:VCALENDAR
PRODID:-//eluceo/ical//2.0/EN
VERSION:2.0
CALSCALE:GREGORIAN
BEGIN:VEVENT
UID:dd5ef911c8636dadf18a926eb31bae50
DTSTAMP:20260423T143303Z
SUMMARY:Konzertgottesdienst mit Projektchor und Band
DESCRIPTION:Offenes Popchorprojekt mit Band\n25.05.2025 – 11:00 Uhr Konze
 rtgottesdienstKirche Euba - An der Kirche 4\, 09128 Chemnitz\nAlle sind he
 rzlich eingeladen. Eintritt ist frei. Eine Veranstaltung im Rahmen der Kul
 turhauptstadt 2025 / Kulturkirche. Bitte Weitersagen: Konzertplakat und Bi
 ld zum Teilen finden Sie unten.\nEure Katharina Kimme-Schmalian & Carsten 
 Kuniß
URL:https://www.ckgc.de/event/projektchor25.html
DTSTART:20250525T110000
DTEND:20250525T110000
LOCATION:An der Kirche 4\, 09128 Chemnitz
END:VEVENT
BEGIN:VTIMEZONE
TZID:Europe/Berlin
BEGIN:DAYLIGHT
DTSTART:20250525T110000
TZNAME:CEST
TZOFFSETTO:+0200
TZOFFSETFROM:+0200
END:DAYLIGHT
END:VTIMEZONE
END:VCALENDAR
