BEGIN:VCALENDAR
PRODID:-//eluceo/ical//2.0/EN
VERSION:2.0
CALSCALE:GREGORIAN
BEGIN:VEVENT
UID:ae5146714a608b62810505b571704323
DTSTAMP:20260425T123110Z
SUMMARY:Workshop Öffentlichkeitsarbeit
DESCRIPTION:Wir wollen als Gemeinde(-glieder) die Menschen innerhalb und au
 ßerhalb unserer Gemeinde zu unseren wertvollen und mit viel Hingabe gesta
 lteten Angeboten einladen. Die Arbeitsgruppe „Öffentlichkeitsarbeit“ 
 lädt daher für Mittwoch\, den 06. März um 19:30 Uhr nach Euba/Gemeindes
 aal zu einem Workshop zum Thema „Veranstaltungswerbung“ ein.\nMit dies
 em Workshop möchten wir insbesondere die erreichen\, die in irgendeiner W
 eise für Gruppen oder Veranstaltungen werben. Wir wollen vorstellen\, wie
  man Veranstaltungen mit viel Reichweite bewerben kann\, sprich die die ri
 chtigen Leute zur richtigen Zeit erreicht. Auch wollen wir die Unterstütz
 ungsleistungen des ÖA-Teams vorstellen und wie eine optimale Zuarbeit aus
 sieht. Auch zeigen wir\, wie man dabei in unserem Design auftreten kann un
 d bieten erste Vorlagen und Arbeitserleichterungen an.
URL:https://www.ckgc.de/event/workshop-oeffentlichkeitsarbeit.html
DTSTART:20240306T193000
DTEND:20240306T193000
LOCATION:An der Kirche 4\, 09128 Chemnitz
END:VEVENT
BEGIN:VTIMEZONE
TZID:Europe/Berlin
BEGIN:STANDARD
DTSTART:20240306T193000
TZNAME:CET
TZOFFSETTO:+0100
TZOFFSETFROM:+0100
END:STANDARD
END:VTIMEZONE
END:VCALENDAR
